Package: BaalChIP Version: 1.34.0 Command: rm -rf BaalChIP.buildbin-libdir && mkdir BaalChIP.buildbin-libdir && /Users/biocbuild/BBS/utils/build-universal.sh BaalChIP_1.34.0.tar.gz /Library/Frameworks/R.framework/Resources/bin/R BaalChIP.buildbin-libdir StartedAt: 2025-04-22 00:33:52 -0400 (Tue, 22 Apr 2025) EndedAt: 2025-04-22 00:35:35 -0400 (Tue, 22 Apr 2025) EllapsedTime: 103.5 seconds RetCode: 0 Status: OK PackageFile: BaalChIP_1.34.0.tgz PackageFileSize: 100.2 MiB