Package: BUSseq Version: 1.16.0 Command: /home/biocbuild/R/R/bin/R CMD INSTALL BUSseq StartedAt: 2025-11-17 21:25:15 -0000 (Mon, 17 Nov 2025) EndedAt: 2025-11-17 21:25:50 -0000 (Mon, 17 Nov 2025) EllapsedTime: 35.3 seconds RetCode: 0 Status: OK