Package: BUSpaRse Version: 1.22.2 Command: /Library/Frameworks/R.framework/Resources/bin/R CMD INSTALL BUSpaRse StartedAt: 2025-10-13 16:11:16 -0400 (Mon, 13 Oct 2025) EndedAt: 2025-10-13 16:13:16 -0400 (Mon, 13 Oct 2025) EllapsedTime: 120.3 seconds RetCode: 0 Status: OK