Package: BUSpaRse Version: 1.22.1 Command: /Library/Frameworks/R.framework/Resources/bin/R CMD check --install=check:BUSpaRse.install-out.txt --library=/Library/Frameworks/R.framework/Resources/library --no-vignettes --timings BUSpaRse_1.22.1.tar.gz StartedAt: 2025-09-05 00:51:03 -0400 (Fri, 05 Sep 2025) EndedAt: 2025-09-05 01:05:11 -0400 (Fri, 05 Sep 2025) EllapsedTime: 848.3 seconds RetCode: 0 Status: OK CheckDir: BUSpaRse.Rcheck Warnings: 0