Package: BUScorrect Version: 1.27.0 Command: /home/biocbuild/R/R/bin/R CMD build --keep-empty-dirs --no-resave-data BUScorrect StartedAt: 2025-10-20 22:25:44 -0000 (Mon, 20 Oct 2025) EndedAt: 2025-10-20 22:28:50 -0000 (Mon, 20 Oct 2025) EllapsedTime: 186.1 seconds RetCode: 0 Status: OK PackageFile: BUScorrect_1.27.0.tar.gz PackageFileSize: 3.509 MiB