Package: BUScorrect Version: 1.27.0 Command: rm -rf BUScorrect.buildbin-libdir && mkdir BUScorrect.buildbin-libdir && F:\biocbuild\bbs-3.22-bioc\R\bin\R.exe CMD INSTALL --build --library=BUScorrect.buildbin-libdir BUScorrect_1.27.0.tar.gz StartedAt: 2025-08-15 09:52:54 -0400 (Fri, 15 Aug 2025) EndedAt: 2025-08-15 09:53:32 -0400 (Fri, 15 Aug 2025) EllapsedTime: 37.7 seconds RetCode: 0 Status: OK PackageFile: BUScorrect_1.27.0.zip PackageFileSize: 3.61 MiB