Package: BUScorrect Version: 1.28.0 Command: /home/biocbuild/bbs-3.22-bioc/R/bin/R CMD INSTALL BUScorrect StartedAt: 2025-11-06 15:18:25 -0500 (Thu, 06 Nov 2025) EndedAt: 2025-11-06 15:18:46 -0500 (Thu, 06 Nov 2025) EllapsedTime: 21.0 seconds RetCode: 0 Status: OK