Package: BUScorrect Version: 1.28.0 Command: /home/biocbuild/bbs-3.22-bioc/R/bin/R CMD build --keep-empty-dirs --no-resave-data --md5 BUScorrect StartedAt: 2025-11-06 16:37:10 -0500 (Thu, 06 Nov 2025) EndedAt: 2025-11-06 16:39:08 -0500 (Thu, 06 Nov 2025) EllapsedTime: 118.1 seconds RetCode: 0 Status: OK PackageFile: BUScorrect_1.28.0.tar.gz PackageFileSize: 3.519 MiB