Package: BUScorrect Version: 1.28.0 Command: /Library/Frameworks/R.framework/Resources/bin/R CMD INSTALL BUScorrect StartedAt: 2025-11-03 15:24:30 -0500 (Mon, 03 Nov 2025) EndedAt: 2025-11-03 15:24:59 -0500 (Mon, 03 Nov 2025) EllapsedTime: 28.2 seconds RetCode: 0 Status: OK