Package: BUScorrect Version: 1.28.0 Command: /Library/Frameworks/R.framework/Resources/bin/R CMD check --install=check:BUScorrect.install-out.txt --library=/Library/Frameworks/R.framework/Resources/library --no-vignettes --timings BUScorrect_1.28.0.tar.gz StartedAt: 2025-11-03 19:57:07 -0500 (Mon, 03 Nov 2025) EndedAt: 2025-11-03 20:00:33 -0500 (Mon, 03 Nov 2025) EllapsedTime: 206.0 seconds RetCode: 0 Status: OK CheckDir: BUScorrect.Rcheck Warnings: 0