Package: BUScorrect Version: 1.28.0 Command: rm -rf BUScorrect.buildbin-libdir && mkdir BUScorrect.buildbin-libdir && /Users/biocbuild/BBS/utils/build-universal.sh BUScorrect_1.28.0.tar.gz /Library/Frameworks/R.framework/Resources/bin/R BUScorrect.buildbin-libdir StartedAt: 2025-11-04 01:30:48 -0500 (Tue, 04 Nov 2025) EndedAt: 2025-11-04 01:31:21 -0500 (Tue, 04 Nov 2025) EllapsedTime: 32.5 seconds RetCode: 0 Status: OK PackageFile: BUScorrect_1.28.0.tgz PackageFileSize: 3.6 MiB