Package: BUScorrect Version: 1.28.0 Command: /Library/Frameworks/R.framework/Resources/bin/R CMD INSTALL BUScorrect StartedAt: 2025-11-06 15:11:54 -0500 (Thu, 06 Nov 2025) EndedAt: 2025-11-06 15:12:02 -0500 (Thu, 06 Nov 2025) EllapsedTime: 7.9 seconds RetCode: 0 Status: OK