Package: BUScorrect Version: 1.28.0 Command: /Library/Frameworks/R.framework/Resources/bin/R CMD check --install=check:BUScorrect.install-out.txt --library=/Library/Frameworks/R.framework/Resources/library --no-vignettes --timings BUScorrect_1.28.0.tar.gz StartedAt: 2025-11-06 18:47:40 -0500 (Thu, 06 Nov 2025) EndedAt: 2025-11-06 18:48:58 -0500 (Thu, 06 Nov 2025) EllapsedTime: 77.9 seconds RetCode: 0 Status: OK CheckDir: BUScorrect.Rcheck Warnings: 0