Package: BUScorrect Version: 1.28.0 Command: /Library/Frameworks/R.framework/Resources/bin/R CMD build --keep-empty-dirs --no-resave-data BUScorrect StartedAt: 2025-11-06 15:49:25 -0500 (Thu, 06 Nov 2025) EndedAt: 2025-11-06 15:50:21 -0500 (Thu, 06 Nov 2025) EllapsedTime: 56.6 seconds RetCode: 0 Status: OK PackageFile: BUScorrect_1.28.0.tar.gz PackageFileSize: 3.518 MiB