Package: BUS Version: 1.64.0 Command: /Library/Frameworks/R.framework/Resources/bin/R CMD INSTALL BUS StartedAt: 2025-04-21 15:11:52 -0400 (Mon, 21 Apr 2025) EndedAt: 2025-04-21 15:12:03 -0400 (Mon, 21 Apr 2025) EllapsedTime: 11.3 seconds RetCode: 0 Status: OK