Package: BUS Version: 1.64.0 Command: /Library/Frameworks/R.framework/Resources/bin/R CMD build --keep-empty-dirs --no-resave-data BUS StartedAt: 2025-04-21 16:09:45 -0400 (Mon, 21 Apr 2025) EndedAt: 2025-04-21 16:09:58 -0400 (Mon, 21 Apr 2025) EllapsedTime: 12.6 seconds RetCode: 0 Status: OK PackageFile: BUS_1.64.0.tar.gz PackageFileSize: 2.823 MiB