Package: BUS Version: 1.64.0 Command: rm -rf BUS.buildbin-libdir && mkdir BUS.buildbin-libdir && /Users/biocbuild/BBS/utils/build-universal.sh BUS_1.64.0.tar.gz /Library/Frameworks/R.framework/Resources/bin/R BUS.buildbin-libdir StartedAt: 2025-04-22 00:36:23 -0400 (Tue, 22 Apr 2025) EndedAt: 2025-04-22 00:36:32 -0400 (Tue, 22 Apr 2025) EllapsedTime: 9.3 seconds RetCode: 0 Status: OK PackageFile: BUS_1.64.0.tgz PackageFileSize: 1.892 MiB