Package: BUMHMM Version: 1.34.0 Command: /home/biocbuild/bbs-3.22-bioc/R/bin/R CMD INSTALL BUMHMM StartedAt: 2025-11-06 15:32:05 -0500 (Thu, 06 Nov 2025) EndedAt: 2025-11-06 15:32:29 -0500 (Thu, 06 Nov 2025) EllapsedTime: 23.9 seconds RetCode: 0 Status: OK