Package: BUMHMM Version: 1.34.0 Command: /home/biocbuild/bbs-3.22-bioc/R/bin/R CMD check --install=check:BUMHMM.install-out.txt --library=/home/biocbuild/bbs-3.22-bioc/R/site-library --timings BUMHMM_1.34.0.tar.gz StartedAt: 2025-11-06 21:39:55 -0500 (Thu, 06 Nov 2025) EndedAt: 2025-11-06 21:43:12 -0500 (Thu, 06 Nov 2025) EllapsedTime: 197.2 seconds RetCode: 0 Status: OK CheckDir: BUMHMM.Rcheck Warnings: 0