Package: BUMHMM Version: 1.34.0 Command: /home/biocbuild/bbs-3.22-bioc/R/bin/R CMD build --keep-empty-dirs --no-resave-data --md5 BUMHMM StartedAt: 2025-11-06 16:36:32 -0500 (Thu, 06 Nov 2025) EndedAt: 2025-11-06 16:37:10 -0500 (Thu, 06 Nov 2025) EllapsedTime: 38.0 seconds RetCode: 0 Status: OK PackageFile: BUMHMM_1.34.0.tar.gz PackageFileSize: 713.4 KiB