Package: BUMHMM Version: 1.34.0 Command: /Library/Frameworks/R.framework/Resources/bin/R CMD build --keep-empty-dirs --no-resave-data BUMHMM StartedAt: 2025-11-09 15:49:18 -0500 (Sun, 09 Nov 2025) EndedAt: 2025-11-09 15:49:36 -0500 (Sun, 09 Nov 2025) EllapsedTime: 18.2 seconds RetCode: 0 Status: OK PackageFile: BUMHMM_1.34.0.tar.gz PackageFileSize: 711.9 KiB