Package: BSgenomeForge Version: 1.10.0 Command: /Library/Frameworks/R.framework/Resources/bin/R CMD INSTALL BSgenomeForge StartedAt: 2025-11-03 15:35:23 -0500 (Mon, 03 Nov 2025) EndedAt: 2025-11-03 15:36:08 -0500 (Mon, 03 Nov 2025) EllapsedTime: 44.7 seconds RetCode: 0 Status: OK