Package: BSgenome Version: 1.76.0 Command: /home/biocbuild/bbs-3.21-bioc/R/bin/R CMD check --install=check:BSgenome.install-out.txt --library=/home/biocbuild/bbs-3.21-bioc/R/site-library --timings BSgenome_1.76.0.tar.gz StartedAt: 2025-10-15 21:22:14 -0400 (Wed, 15 Oct 2025) EndedAt: 2025-10-15 21:28:59 -0400 (Wed, 15 Oct 2025) EllapsedTime: 404.6 seconds RetCode: 0 Status: WARNINGS CheckDir: BSgenome.Rcheck Warnings: 1