Package: BSgenome Version: 1.76.0 Command: /Library/Frameworks/R.framework/Resources/bin/R CMD check --install=check:BSgenome.install-out.txt --library=/Library/Frameworks/R.framework/Resources/library --no-vignettes --timings BSgenome_1.76.0.tar.gz StartedAt: 2025-10-14 00:56:04 -0400 (Tue, 14 Oct 2025) EndedAt: 2025-10-14 01:07:26 -0400 (Tue, 14 Oct 2025) EllapsedTime: 682.3 seconds RetCode: 0 Status: WARNINGS CheckDir: BSgenome.Rcheck Warnings: 1