Package: BSgenome Version: 1.76.0 Command: rm -rf BSgenome.buildbin-libdir && mkdir BSgenome.buildbin-libdir && /Users/biocbuild/BBS/utils/build-universal.sh BSgenome_1.76.0.tar.gz /Library/Frameworks/R.framework/Resources/bin/R BSgenome.buildbin-libdir StartedAt: 2025-10-14 12:57:05 -0400 (Tue, 14 Oct 2025) EndedAt: 2025-10-14 12:58:38 -0400 (Tue, 14 Oct 2025) EllapsedTime: 93.2 seconds RetCode: 0 Status: OK PackageFile: BSgenome_1.76.0.tgz PackageFileSize: 6.969 MiB