Package: BSgenome Version: 1.76.0 Command: /home/biocbuild/R/R/bin/R CMD INSTALL BSgenome StartedAt: 2025-10-13 20:41:28 -0000 (Mon, 13 Oct 2025) EndedAt: 2025-10-13 20:42:27 -0000 (Mon, 13 Oct 2025) EllapsedTime: 59.5 seconds RetCode: 0 Status: OK