Package: BSgenome Version: 1.76.0 Command: /home/biocbuild/R/R/bin/R CMD build --keep-empty-dirs --no-resave-data BSgenome StartedAt: 2025-10-13 23:16:34 -0000 (Mon, 13 Oct 2025) EndedAt: 2025-10-13 23:18:41 -0000 (Mon, 13 Oct 2025) EllapsedTime: 127.0 seconds RetCode: 0 Status: OK PackageFile: BSgenome_1.76.0.tar.gz PackageFileSize: 5.62 MiB