Package: BSgenome Version: 1.76.0 Command: rm -rf BSgenome.buildbin-libdir && mkdir BSgenome.buildbin-libdir && /Users/biocbuild/BBS/utils/build-universal.sh BSgenome_1.76.0.tar.gz /Library/Frameworks/R.framework/Resources/bin/R BSgenome.buildbin-libdir StartedAt: 2025-10-15 17:40:12 -0400 (Wed, 15 Oct 2025) EndedAt: 2025-10-15 17:41:05 -0400 (Wed, 15 Oct 2025) EllapsedTime: 52.5 seconds RetCode: 0 Status: OK PackageFile: BSgenome_1.76.0.tgz PackageFileSize: 6.97 MiB