Package: BREW3R.r Version: 1.4.0 Command: E:\biocbuild\bbs-3.21-bioc\R\bin\R.exe CMD check --no-multiarch --install=check:BREW3R.r.install-out.txt --library=E:\biocbuild\bbs-3.21-bioc\R\library --no-vignettes --timings BREW3R.r_1.4.0.tar.gz StartedAt: 2025-08-15 00:08:40 -0400 (Fri, 15 Aug 2025) EndedAt: 2025-08-15 00:11:06 -0400 (Fri, 15 Aug 2025) EllapsedTime: 145.7 seconds RetCode: 0 Status: OK CheckDir: BREW3R.r.Rcheck Warnings: 0