Package: BREW3R.r Version: 1.4.0 Command: rm -rf BREW3R.r.buildbin-libdir && mkdir BREW3R.r.buildbin-libdir && E:\biocbuild\bbs-3.21-bioc\R\bin\R.exe CMD INSTALL --build --library=BREW3R.r.buildbin-libdir BREW3R.r_1.4.0.tar.gz StartedAt: 2025-08-15 08:53:45 -0400 (Fri, 15 Aug 2025) EndedAt: 2025-08-15 08:54:02 -0400 (Fri, 15 Aug 2025) EllapsedTime: 16.5 seconds RetCode: 0 Status: OK PackageFile: BREW3R.r_1.4.0.zip PackageFileSize: 1.842 MiB