Package: BPRMeth Version: 1.34.0 Command: /home/biocbuild/bbs-3.21-bioc/R/bin/R CMD INSTALL BPRMeth StartedAt: 2025-10-15 15:15:39 -0400 (Wed, 15 Oct 2025) EndedAt: 2025-10-15 15:16:07 -0400 (Wed, 15 Oct 2025) EllapsedTime: 27.5 seconds RetCode: 0 Status: OK