Package: BPRMeth Version: 1.34.0 Command: /home/biocbuild/bbs-3.21-bioc/R/bin/R CMD check --install=check:BPRMeth.install-out.txt --library=/home/biocbuild/bbs-3.21-bioc/R/site-library --timings BPRMeth_1.34.0.tar.gz StartedAt: 2025-10-15 21:19:18 -0400 (Wed, 15 Oct 2025) EndedAt: 2025-10-15 21:22:02 -0400 (Wed, 15 Oct 2025) EllapsedTime: 164.1 seconds RetCode: 1 Status: ERROR CheckDir: BPRMeth.Rcheck Warnings: NA