Package: BPRMeth Version: 1.34.0 Command: /home/biocbuild/bbs-3.21-bioc/R/bin/R CMD build --keep-empty-dirs --no-resave-data BPRMeth StartedAt: 2025-10-15 16:30:28 -0400 (Wed, 15 Oct 2025) EndedAt: 2025-10-15 16:31:57 -0400 (Wed, 15 Oct 2025) EllapsedTime: 89.1 seconds RetCode: 0 Status: OK PackageFile: BPRMeth_1.34.0.tar.gz PackageFileSize: 3.163 MiB