Package: BPRMeth Version: 1.34.0 Command: /Library/Frameworks/R.framework/Resources/bin/R CMD build --keep-empty-dirs --no-resave-data BPRMeth StartedAt: 2025-04-21 15:47:00 -0400 (Mon, 21 Apr 2025) EndedAt: 2025-04-21 15:47:36 -0400 (Mon, 21 Apr 2025) EllapsedTime: 35.4 seconds RetCode: 0 Status: OK PackageFile: BPRMeth_1.34.0.tar.gz PackageFileSize: 3.275 MiB