Package: BLMA Version: 1.34.0 Command: /home/biocbuild/bbs-3.22-bioc/R/bin/R CMD check --install=check:BLMA.install-out.txt --library=/home/biocbuild/bbs-3.22-bioc/R/site-library --timings BLMA_1.34.0.tar.gz StartedAt: 2025-11-02 21:49:28 -0500 (Sun, 02 Nov 2025) EndedAt: 2025-11-02 21:59:49 -0500 (Sun, 02 Nov 2025) EllapsedTime: 620.7 seconds RetCode: 0 Status: OK CheckDir: BLMA.Rcheck Warnings: 0