Package: BLMA Version: 1.34.0 Command: /home/biocbuild/bbs-3.22-bioc/R/bin/R CMD build --keep-empty-dirs --no-resave-data --md5 BLMA StartedAt: 2025-11-02 16:47:57 -0500 (Sun, 02 Nov 2025) EndedAt: 2025-11-02 16:52:03 -0500 (Sun, 02 Nov 2025) EllapsedTime: 246.3 seconds RetCode: 0 Status: OK PackageFile: BLMA_1.34.0.tar.gz PackageFileSize: 2.827 MiB