Package: BG2 Version: 1.8.0 Command: rm -rf BG2.buildbin-libdir && mkdir BG2.buildbin-libdir && E:\biocbuild\bbs-3.21-bioc\R\bin\R.exe CMD INSTALL --build --library=BG2.buildbin-libdir BG2_1.8.0.tar.gz StartedAt: 2025-08-15 08:49:50 -0400 (Fri, 15 Aug 2025) EndedAt: 2025-08-15 08:49:57 -0400 (Fri, 15 Aug 2025) EllapsedTime: 7.0 seconds RetCode: 0 Status: OK PackageFile: BG2_1.8.0.zip PackageFileSize: 1.168 MiB