Package: BEclear Version: 2.26.0 Command: /home/biocbuild/R/R/bin/R CMD INSTALL BEclear StartedAt: 2025-11-17 21:07:12 -0000 (Mon, 17 Nov 2025) EndedAt: 2025-11-17 21:07:32 -0000 (Mon, 17 Nov 2025) EllapsedTime: 20.6 seconds RetCode: 0 Status: OK