Package: BEclear Version: 2.26.0 Command: /home/biocbuild/R/R/bin/R CMD build --keep-empty-dirs --no-resave-data BEclear StartedAt: 2025-11-17 23:53:32 -0000 (Mon, 17 Nov 2025) EndedAt: 2025-11-17 23:54:04 -0000 (Mon, 17 Nov 2025) EllapsedTime: 32.0 seconds RetCode: 0 Status: OK PackageFile: BEclear_2.26.0.tar.gz PackageFileSize: 657.3 KiB