Package: BEclear Version: 2.26.0 Command: /home/biocbuild/bbs-3.22-bioc/R/bin/R CMD INSTALL BEclear StartedAt: 2025-11-06 15:04:34 -0500 (Thu, 06 Nov 2025) EndedAt: 2025-11-06 15:04:51 -0500 (Thu, 06 Nov 2025) EllapsedTime: 17.4 seconds RetCode: 0 Status: OK