Package: BEAT Version: 1.48.0 Command: /home/biocbuild/R/R/bin/R CMD INSTALL BEAT StartedAt: 2025-11-17 22:00:29 -0000 (Mon, 17 Nov 2025) EndedAt: 2025-11-17 22:01:16 -0000 (Mon, 17 Nov 2025) EllapsedTime: 46.7 seconds RetCode: 0 Status: OK