Package: BEAT Version: 1.48.0 Command: /home/biocbuild/R/R/bin/R CMD build --keep-empty-dirs --no-resave-data BEAT StartedAt: 2025-11-17 23:53:27 -0000 (Mon, 17 Nov 2025) EndedAt: 2025-11-17 23:55:12 -0000 (Mon, 17 Nov 2025) EllapsedTime: 105.0 seconds RetCode: 0 Status: OK PackageFile: BEAT_1.48.0.tar.gz PackageFileSize: 3.276 MiB