Package: BCRANK Version: 1.72.0 Maintainer: Adam Ameur MaintainerEmail: Adam.Ameur at genpat.uu.se git_url: https://git.bioconductor.org/packages/BCRANK git_branch: RELEASE_3_22 git_last_commit: b625b23 git_last_commit_date: 2025-10-29 10:00:13 -0500 (Wed, 29 Oct 2025)