Package: BASiCStan Version: 1.10.0 Command: /home/biocbuild/R/R/bin/R CMD INSTALL BASiCStan StartedAt: 2025-09-25 21:17:27 -0000 (Thu, 25 Sep 2025) EndedAt: 2025-09-25 21:24:25 -0000 (Thu, 25 Sep 2025) EllapsedTime: 417.9 seconds RetCode: 0 Status: OK