Package: BASiCStan Version: 1.10.0 Command: /home/biocbuild/R/R/bin/R CMD build --keep-empty-dirs --no-resave-data BASiCStan StartedAt: 2025-09-25 22:48:12 -0000 (Thu, 25 Sep 2025) EndedAt: 2025-09-25 22:55:37 -0000 (Thu, 25 Sep 2025) EllapsedTime: 445.1 seconds RetCode: 0 Status: OK PackageFile: BASiCStan_1.10.0.tar.gz PackageFileSize: 61.94 KiB