Package: BASiCS Version: 2.20.0 Command: E:\biocbuild\bbs-3.21-bioc\R\bin\R.exe CMD INSTALL BASiCS StartedAt: 2025-08-14 16:12:48 -0400 (Thu, 14 Aug 2025) EndedAt: 2025-08-14 16:14:44 -0400 (Thu, 14 Aug 2025) EllapsedTime: 116.5 seconds RetCode: 0 Status: OK