Package: BASiCS Version: 2.20.0 Command: E:\biocbuild\bbs-3.21-bioc\R\bin\R.exe CMD check --no-multiarch --install=check:BASiCS.install-out.txt --library=E:\biocbuild\bbs-3.21-bioc\R\library --no-vignettes --timings BASiCS_2.20.0.tar.gz StartedAt: 2025-08-14 23:37:30 -0400 (Thu, 14 Aug 2025) EndedAt: 2025-08-14 23:49:04 -0400 (Thu, 14 Aug 2025) EllapsedTime: 694.6 seconds RetCode: 0 Status: OK CheckDir: BASiCS.Rcheck Warnings: 0