Package: BANDITS Version: 1.25.1 Command: /home/biocbuild/R/R/bin/R CMD INSTALL BANDITS StartedAt: 2025-10-23 20:57:00 -0000 (Thu, 23 Oct 2025) EndedAt: 2025-10-23 20:58:29 -0000 (Thu, 23 Oct 2025) EllapsedTime: 89.7 seconds RetCode: 0 Status: OK