Package: BANDITS Version: 1.25.1 Command: /home/biocbuild/R/R/bin/R CMD build --keep-empty-dirs --no-resave-data BANDITS StartedAt: 2025-10-20 21:51:23 -0000 (Mon, 20 Oct 2025) EndedAt: 2025-10-20 22:31:24 -0000 (Mon, 20 Oct 2025) EllapsedTime: 2400.7 seconds RetCode: None Status: TIMEOUT PackageFile: None PackageFileSize: NA