Package: BANDITS Version: 1.25.0 Command: F:\biocbuild\bbs-3.22-bioc\R\bin\R.exe CMD INSTALL BANDITS StartedAt: 2025-08-14 16:19:15 -0400 (Thu, 14 Aug 2025) EndedAt: 2025-08-14 16:20:45 -0400 (Thu, 14 Aug 2025) EllapsedTime: 90.5 seconds RetCode: 0 Status: OK